BEGIN:VCALENDAR
VERSION:2.0
PRODID:-//City of Pleasant Valley - ECPv6.15.20//NONSGML v1.0//EN
CALSCALE:GREGORIAN
METHOD:PUBLISH
X-ORIGINAL-URL:https://cityofpleasantvalley.com
X-WR-CALDESC:Events for City of Pleasant Valley
REFRESH-INTERVAL;VALUE=DURATION:PT1H
X-Robots-Tag:noindex
X-PUBLISHED-TTL:PT1H
BEGIN:VTIMEZONE
TZID:America/New_York
BEGIN:DAYLIGHT
TZOFFSETFROM:-0500
TZOFFSETTO:-0400
TZNAME:EDT
DTSTART:20290311T070000
END:DAYLIGHT
BEGIN:STANDARD
TZOFFSETFROM:-0400
TZOFFSETTO:-0500
TZNAME:EST
DTSTART:20291104T060000
END:STANDARD
BEGIN:DAYLIGHT
TZOFFSETFROM:-0500
TZOFFSETTO:-0400
TZNAME:EDT
DTSTART:20300310T070000
END:DAYLIGHT
BEGIN:STANDARD
TZOFFSETFROM:-0400
TZOFFSETTO:-0500
TZNAME:EST
DTSTART:20301103T060000
END:STANDARD
BEGIN:DAYLIGHT
TZOFFSETFROM:-0500
TZOFFSETTO:-0400
TZNAME:EDT
DTSTART:20310309T070000
END:DAYLIGHT
BEGIN:STANDARD
TZOFFSETFROM:-0400
TZOFFSETTO:-0500
TZNAME:EST
DTSTART:20311102T060000
END:STANDARD
BEGIN:DAYLIGHT
TZOFFSETFROM:-0500
TZOFFSETTO:-0400
TZNAME:EDT
DTSTART:20320314T070000
END:DAYLIGHT
BEGIN:STANDARD
TZOFFSETFROM:-0400
TZOFFSETTO:-0500
TZNAME:EST
DTSTART:20321107T060000
END:STANDARD
END:VTIMEZONE
BEGIN:VEVENT
DTSTART;TZID=America/New_York:20300917T190000
DTEND;TZID=America/New_York:20300917T203000
DTSTAMP:20260419T205840
CREATED:20260215T101719Z
LAST-MODIFIED:20260303T155609Z
UID:10000057-1915902000-1915907400@cityofpleasantvalley.com
SUMMARY:Council Meeting
DESCRIPTION:
URL:https://cityofpleasantvalley.com/event/perspiciatis-unde/2030-09-17/
LOCATION:Municipal Building\, 2340 Kingmont Road\, Fairmont\, WV\, 26554\, United States
ATTACH;FMTTYPE=image/jpeg:https://cityofpleasantvalley.com/wp-content/uploads/2026/02/GettyImages-2175436689-scaled.jpg
END:VEVENT
BEGIN:VEVENT
DTSTART;TZID=America/New_York:20301015T190000
DTEND;TZID=America/New_York:20301015T203000
DTSTAMP:20260419T205840
CREATED:20260215T101719Z
LAST-MODIFIED:20260303T155609Z
UID:10000058-1918321200-1918326600@cityofpleasantvalley.com
SUMMARY:Council Meeting
DESCRIPTION:
URL:https://cityofpleasantvalley.com/event/perspiciatis-unde/2030-10-15/
LOCATION:Municipal Building\, 2340 Kingmont Road\, Fairmont\, WV\, 26554\, United States
ATTACH;FMTTYPE=image/jpeg:https://cityofpleasantvalley.com/wp-content/uploads/2026/02/GettyImages-2175436689-scaled.jpg
END:VEVENT
BEGIN:VEVENT
DTSTART;TZID=America/New_York:20301119T190000
DTEND;TZID=America/New_York:20301119T203000
DTSTAMP:20260419T205840
CREATED:20260215T101719Z
LAST-MODIFIED:20260303T155609Z
UID:10000059-1921345200-1921350600@cityofpleasantvalley.com
SUMMARY:Council Meeting
DESCRIPTION:
URL:https://cityofpleasantvalley.com/event/perspiciatis-unde/2030-11-19/
LOCATION:Municipal Building\, 2340 Kingmont Road\, Fairmont\, WV\, 26554\, United States
ATTACH;FMTTYPE=image/jpeg:https://cityofpleasantvalley.com/wp-content/uploads/2026/02/GettyImages-2175436689-scaled.jpg
END:VEVENT
BEGIN:VEVENT
DTSTART;TZID=America/New_York:20301217T190000
DTEND;TZID=America/New_York:20301217T203000
DTSTAMP:20260419T205840
CREATED:20260215T101719Z
LAST-MODIFIED:20260303T155609Z
UID:10000060-1923764400-1923769800@cityofpleasantvalley.com
SUMMARY:Council Meeting
DESCRIPTION:
URL:https://cityofpleasantvalley.com/event/perspiciatis-unde/2030-12-17/
LOCATION:Municipal Building\, 2340 Kingmont Road\, Fairmont\, WV\, 26554\, United States
ATTACH;FMTTYPE=image/jpeg:https://cityofpleasantvalley.com/wp-content/uploads/2026/02/GettyImages-2175436689-scaled.jpg
END:VEVENT
BEGIN:VEVENT
DTSTART;TZID=America/New_York:20310121T190000
DTEND;TZID=America/New_York:20310121T203000
DTSTAMP:20260419T205840
CREATED:20260215T101719Z
LAST-MODIFIED:20260303T155609Z
UID:10000061-1926788400-1926793800@cityofpleasantvalley.com
SUMMARY:Council Meeting
DESCRIPTION:
URL:https://cityofpleasantvalley.com/event/perspiciatis-unde/2031-01-21/
LOCATION:Municipal Building\, 2340 Kingmont Road\, Fairmont\, WV\, 26554\, United States
ATTACH;FMTTYPE=image/jpeg:https://cityofpleasantvalley.com/wp-content/uploads/2026/02/GettyImages-2175436689-scaled.jpg
END:VEVENT
BEGIN:VEVENT
DTSTART;TZID=America/New_York:20310218T190000
DTEND;TZID=America/New_York:20310218T203000
DTSTAMP:20260419T205840
CREATED:20260215T101719Z
LAST-MODIFIED:20260303T155609Z
UID:10000062-1929207600-1929213000@cityofpleasantvalley.com
SUMMARY:Council Meeting
DESCRIPTION:
URL:https://cityofpleasantvalley.com/event/perspiciatis-unde/2031-02-18/
LOCATION:Municipal Building\, 2340 Kingmont Road\, Fairmont\, WV\, 26554\, United States
ATTACH;FMTTYPE=image/jpeg:https://cityofpleasantvalley.com/wp-content/uploads/2026/02/GettyImages-2175436689-scaled.jpg
END:VEVENT
END:VCALENDAR