BEGIN:VCALENDAR
VERSION:2.0
PRODID:-//City of Pleasant Valley - ECPv6.15.20//NONSGML v1.0//EN
CALSCALE:GREGORIAN
METHOD:PUBLISH
X-WR-CALNAME:City of Pleasant Valley
X-ORIGINAL-URL:https://cityofpleasantvalley.com
X-WR-CALDESC:Events for City of Pleasant Valley
REFRESH-INTERVAL;VALUE=DURATION:PT1H
X-Robots-Tag:noindex
X-PUBLISHED-TTL:PT1H
BEGIN:VTIMEZONE
TZID:America/New_York
BEGIN:DAYLIGHT
TZOFFSETFROM:-0500
TZOFFSETTO:-0400
TZNAME:EDT
DTSTART:20270314T070000
END:DAYLIGHT
BEGIN:STANDARD
TZOFFSETFROM:-0400
TZOFFSETTO:-0500
TZNAME:EST
DTSTART:20271107T060000
END:STANDARD
BEGIN:DAYLIGHT
TZOFFSETFROM:-0500
TZOFFSETTO:-0400
TZNAME:EDT
DTSTART:20280312T070000
END:DAYLIGHT
BEGIN:STANDARD
TZOFFSETFROM:-0400
TZOFFSETTO:-0500
TZNAME:EST
DTSTART:20281105T060000
END:STANDARD
BEGIN:DAYLIGHT
TZOFFSETFROM:-0500
TZOFFSETTO:-0400
TZNAME:EDT
DTSTART:20290311T070000
END:DAYLIGHT
BEGIN:STANDARD
TZOFFSETFROM:-0400
TZOFFSETTO:-0500
TZNAME:EST
DTSTART:20291104T060000
END:STANDARD
BEGIN:DAYLIGHT
TZOFFSETFROM:-0500
TZOFFSETTO:-0400
TZNAME:EDT
DTSTART:20300310T070000
END:DAYLIGHT
BEGIN:STANDARD
TZOFFSETFROM:-0400
TZOFFSETTO:-0500
TZNAME:EST
DTSTART:20301103T060000
END:STANDARD
BEGIN:DAYLIGHT
TZOFFSETFROM:-0500
TZOFFSETTO:-0400
TZNAME:EDT
DTSTART:20310309T070000
END:DAYLIGHT
BEGIN:STANDARD
TZOFFSETFROM:-0400
TZOFFSETTO:-0500
TZNAME:EST
DTSTART:20311102T060000
END:STANDARD
END:VTIMEZONE
BEGIN:VEVENT
DTSTART;TZID=America/New_York:20300917T190000
DTEND;TZID=America/New_York:20300917T203000
DTSTAMP:20260419T215727
CREATED:20260215T101719Z
LAST-MODIFIED:20260303T155609Z
UID:10000057-1915902000-1915907400@cityofpleasantvalley.com
SUMMARY:Council Meeting
DESCRIPTION:
URL:https://cityofpleasantvalley.com/event/perspiciatis-unde/2030-09-17/
LOCATION:Municipal Building\, 2340 Kingmont Road\, Fairmont\, WV\, 26554\, United States
ATTACH;FMTTYPE=image/jpeg:https://cityofpleasantvalley.com/wp-content/uploads/2026/02/GettyImages-2175436689-scaled.jpg
END:VEVENT
BEGIN:VEVENT
DTSTART;TZID=America/New_York:20300820T190000
DTEND;TZID=America/New_York:20300820T203000
DTSTAMP:20260419T215727
CREATED:20260215T101719Z
LAST-MODIFIED:20260303T155609Z
UID:10000056-1913482800-1913488200@cityofpleasantvalley.com
SUMMARY:Council Meeting
DESCRIPTION:
URL:https://cityofpleasantvalley.com/event/perspiciatis-unde/2030-08-20/
LOCATION:Municipal Building\, 2340 Kingmont Road\, Fairmont\, WV\, 26554\, United States
ATTACH;FMTTYPE=image/jpeg:https://cityofpleasantvalley.com/wp-content/uploads/2026/02/GettyImages-2175436689-scaled.jpg
END:VEVENT
BEGIN:VEVENT
DTSTART;TZID=America/New_York:20300716T190000
DTEND;TZID=America/New_York:20300716T203000
DTSTAMP:20260419T215727
CREATED:20260215T101719Z
LAST-MODIFIED:20260303T155609Z
UID:10000055-1910458800-1910464200@cityofpleasantvalley.com
SUMMARY:Council Meeting
DESCRIPTION:
URL:https://cityofpleasantvalley.com/event/perspiciatis-unde/2030-07-16/
LOCATION:Municipal Building\, 2340 Kingmont Road\, Fairmont\, WV\, 26554\, United States
ATTACH;FMTTYPE=image/jpeg:https://cityofpleasantvalley.com/wp-content/uploads/2026/02/GettyImages-2175436689-scaled.jpg
END:VEVENT
BEGIN:VEVENT
DTSTART;TZID=America/New_York:20300618T190000
DTEND;TZID=America/New_York:20300618T203000
DTSTAMP:20260419T215727
CREATED:20260215T101719Z
LAST-MODIFIED:20260303T155609Z
UID:10000054-1908039600-1908045000@cityofpleasantvalley.com
SUMMARY:Council Meeting
DESCRIPTION:
URL:https://cityofpleasantvalley.com/event/perspiciatis-unde/2030-06-18/
LOCATION:Municipal Building\, 2340 Kingmont Road\, Fairmont\, WV\, 26554\, United States
ATTACH;FMTTYPE=image/jpeg:https://cityofpleasantvalley.com/wp-content/uploads/2026/02/GettyImages-2175436689-scaled.jpg
END:VEVENT
BEGIN:VEVENT
DTSTART;TZID=America/New_York:20300521T190000
DTEND;TZID=America/New_York:20300521T203000
DTSTAMP:20260419T215727
CREATED:20260215T101719Z
LAST-MODIFIED:20260303T155609Z
UID:10000053-1905620400-1905625800@cityofpleasantvalley.com
SUMMARY:Council Meeting
DESCRIPTION:
URL:https://cityofpleasantvalley.com/event/perspiciatis-unde/2030-05-21/
LOCATION:Municipal Building\, 2340 Kingmont Road\, Fairmont\, WV\, 26554\, United States
ATTACH;FMTTYPE=image/jpeg:https://cityofpleasantvalley.com/wp-content/uploads/2026/02/GettyImages-2175436689-scaled.jpg
END:VEVENT
BEGIN:VEVENT
DTSTART;TZID=America/New_York:20300416T190000
DTEND;TZID=America/New_York:20300416T203000
DTSTAMP:20260419T215727
CREATED:20260215T101719Z
LAST-MODIFIED:20260303T155609Z
UID:10000052-1902596400-1902601800@cityofpleasantvalley.com
SUMMARY:Council Meeting
DESCRIPTION:
URL:https://cityofpleasantvalley.com/event/perspiciatis-unde/2030-04-16/
LOCATION:Municipal Building\, 2340 Kingmont Road\, Fairmont\, WV\, 26554\, United States
ATTACH;FMTTYPE=image/jpeg:https://cityofpleasantvalley.com/wp-content/uploads/2026/02/GettyImages-2175436689-scaled.jpg
END:VEVENT
BEGIN:VEVENT
DTSTART;TZID=America/New_York:20300319T190000
DTEND;TZID=America/New_York:20300319T203000
DTSTAMP:20260419T215727
CREATED:20260215T101719Z
LAST-MODIFIED:20260303T155609Z
UID:10000051-1900177200-1900182600@cityofpleasantvalley.com
SUMMARY:Council Meeting
DESCRIPTION:
URL:https://cityofpleasantvalley.com/event/perspiciatis-unde/2030-03-19/
LOCATION:Municipal Building\, 2340 Kingmont Road\, Fairmont\, WV\, 26554\, United States
ATTACH;FMTTYPE=image/jpeg:https://cityofpleasantvalley.com/wp-content/uploads/2026/02/GettyImages-2175436689-scaled.jpg
END:VEVENT
BEGIN:VEVENT
DTSTART;TZID=America/New_York:20300219T190000
DTEND;TZID=America/New_York:20300219T203000
DTSTAMP:20260419T215727
CREATED:20260215T101719Z
LAST-MODIFIED:20260303T155609Z
UID:10000050-1897758000-1897763400@cityofpleasantvalley.com
SUMMARY:Council Meeting
DESCRIPTION:
URL:https://cityofpleasantvalley.com/event/perspiciatis-unde/2030-02-19/
LOCATION:Municipal Building\, 2340 Kingmont Road\, Fairmont\, WV\, 26554\, United States
ATTACH;FMTTYPE=image/jpeg:https://cityofpleasantvalley.com/wp-content/uploads/2026/02/GettyImages-2175436689-scaled.jpg
END:VEVENT
BEGIN:VEVENT
DTSTART;TZID=America/New_York:20300115T190000
DTEND;TZID=America/New_York:20300115T203000
DTSTAMP:20260419T215727
CREATED:20260215T101719Z
LAST-MODIFIED:20260303T155609Z
UID:10000049-1894734000-1894739400@cityofpleasantvalley.com
SUMMARY:Council Meeting
DESCRIPTION:
URL:https://cityofpleasantvalley.com/event/perspiciatis-unde/2030-01-15/
LOCATION:Municipal Building\, 2340 Kingmont Road\, Fairmont\, WV\, 26554\, United States
ATTACH;FMTTYPE=image/jpeg:https://cityofpleasantvalley.com/wp-content/uploads/2026/02/GettyImages-2175436689-scaled.jpg
END:VEVENT
BEGIN:VEVENT
DTSTART;TZID=America/New_York:20291218T190000
DTEND;TZID=America/New_York:20291218T203000
DTSTAMP:20260419T215727
CREATED:20260215T101719Z
LAST-MODIFIED:20260303T155609Z
UID:10000048-1892314800-1892320200@cityofpleasantvalley.com
SUMMARY:Council Meeting
DESCRIPTION:
URL:https://cityofpleasantvalley.com/event/perspiciatis-unde/2029-12-18/
LOCATION:Municipal Building\, 2340 Kingmont Road\, Fairmont\, WV\, 26554\, United States
ATTACH;FMTTYPE=image/jpeg:https://cityofpleasantvalley.com/wp-content/uploads/2026/02/GettyImages-2175436689-scaled.jpg
END:VEVENT
BEGIN:VEVENT
DTSTART;TZID=America/New_York:20291120T190000
DTEND;TZID=America/New_York:20291120T203000
DTSTAMP:20260419T215727
CREATED:20260215T101719Z
LAST-MODIFIED:20260303T155609Z
UID:10000047-1889895600-1889901000@cityofpleasantvalley.com
SUMMARY:Council Meeting
DESCRIPTION:
URL:https://cityofpleasantvalley.com/event/perspiciatis-unde/2029-11-20/
LOCATION:Municipal Building\, 2340 Kingmont Road\, Fairmont\, WV\, 26554\, United States
ATTACH;FMTTYPE=image/jpeg:https://cityofpleasantvalley.com/wp-content/uploads/2026/02/GettyImages-2175436689-scaled.jpg
END:VEVENT
BEGIN:VEVENT
DTSTART;TZID=America/New_York:20291016T190000
DTEND;TZID=America/New_York:20291016T203000
DTSTAMP:20260419T215727
CREATED:20260215T101719Z
LAST-MODIFIED:20260303T155609Z
UID:10000046-1886871600-1886877000@cityofpleasantvalley.com
SUMMARY:Council Meeting
DESCRIPTION:
URL:https://cityofpleasantvalley.com/event/perspiciatis-unde/2029-10-16/
LOCATION:Municipal Building\, 2340 Kingmont Road\, Fairmont\, WV\, 26554\, United States
ATTACH;FMTTYPE=image/jpeg:https://cityofpleasantvalley.com/wp-content/uploads/2026/02/GettyImages-2175436689-scaled.jpg
END:VEVENT
BEGIN:VEVENT
DTSTART;TZID=America/New_York:20290918T190000
DTEND;TZID=America/New_York:20290918T203000
DTSTAMP:20260419T215727
CREATED:20260215T101719Z
LAST-MODIFIED:20260303T155609Z
UID:10000045-1884452400-1884457800@cityofpleasantvalley.com
SUMMARY:Council Meeting
DESCRIPTION:
URL:https://cityofpleasantvalley.com/event/perspiciatis-unde/2029-09-18/
LOCATION:Municipal Building\, 2340 Kingmont Road\, Fairmont\, WV\, 26554\, United States
ATTACH;FMTTYPE=image/jpeg:https://cityofpleasantvalley.com/wp-content/uploads/2026/02/GettyImages-2175436689-scaled.jpg
END:VEVENT
BEGIN:VEVENT
DTSTART;TZID=America/New_York:20290821T190000
DTEND;TZID=America/New_York:20290821T203000
DTSTAMP:20260419T215727
CREATED:20260215T101719Z
LAST-MODIFIED:20260303T155609Z
UID:10000044-1882033200-1882038600@cityofpleasantvalley.com
SUMMARY:Council Meeting
DESCRIPTION:
URL:https://cityofpleasantvalley.com/event/perspiciatis-unde/2029-08-21/
LOCATION:Municipal Building\, 2340 Kingmont Road\, Fairmont\, WV\, 26554\, United States
ATTACH;FMTTYPE=image/jpeg:https://cityofpleasantvalley.com/wp-content/uploads/2026/02/GettyImages-2175436689-scaled.jpg
END:VEVENT
BEGIN:VEVENT
DTSTART;TZID=America/New_York:20290717T190000
DTEND;TZID=America/New_York:20290717T203000
DTSTAMP:20260419T215727
CREATED:20260215T101719Z
LAST-MODIFIED:20260303T155609Z
UID:10000043-1879009200-1879014600@cityofpleasantvalley.com
SUMMARY:Council Meeting
DESCRIPTION:
URL:https://cityofpleasantvalley.com/event/perspiciatis-unde/2029-07-17/
LOCATION:Municipal Building\, 2340 Kingmont Road\, Fairmont\, WV\, 26554\, United States
ATTACH;FMTTYPE=image/jpeg:https://cityofpleasantvalley.com/wp-content/uploads/2026/02/GettyImages-2175436689-scaled.jpg
END:VEVENT
BEGIN:VEVENT
DTSTART;TZID=America/New_York:20290619T190000
DTEND;TZID=America/New_York:20290619T203000
DTSTAMP:20260419T215727
CREATED:20260215T101719Z
LAST-MODIFIED:20260303T155609Z
UID:10000042-1876590000-1876595400@cityofpleasantvalley.com
SUMMARY:Council Meeting
DESCRIPTION:
URL:https://cityofpleasantvalley.com/event/perspiciatis-unde/2029-06-19/
LOCATION:Municipal Building\, 2340 Kingmont Road\, Fairmont\, WV\, 26554\, United States
ATTACH;FMTTYPE=image/jpeg:https://cityofpleasantvalley.com/wp-content/uploads/2026/02/GettyImages-2175436689-scaled.jpg
END:VEVENT
BEGIN:VEVENT
DTSTART;TZID=America/New_York:20290515T190000
DTEND;TZID=America/New_York:20290515T203000
DTSTAMP:20260419T215727
CREATED:20260215T101719Z
LAST-MODIFIED:20260303T155609Z
UID:10000041-1873566000-1873571400@cityofpleasantvalley.com
SUMMARY:Council Meeting
DESCRIPTION:
URL:https://cityofpleasantvalley.com/event/perspiciatis-unde/2029-05-15/
LOCATION:Municipal Building\, 2340 Kingmont Road\, Fairmont\, WV\, 26554\, United States
ATTACH;FMTTYPE=image/jpeg:https://cityofpleasantvalley.com/wp-content/uploads/2026/02/GettyImages-2175436689-scaled.jpg
END:VEVENT
BEGIN:VEVENT
DTSTART;TZID=America/New_York:20290417T190000
DTEND;TZID=America/New_York:20290417T203000
DTSTAMP:20260419T215727
CREATED:20260215T101719Z
LAST-MODIFIED:20260303T155609Z
UID:10000040-1871146800-1871152200@cityofpleasantvalley.com
SUMMARY:Council Meeting
DESCRIPTION:
URL:https://cityofpleasantvalley.com/event/perspiciatis-unde/2029-04-17/
LOCATION:Municipal Building\, 2340 Kingmont Road\, Fairmont\, WV\, 26554\, United States
ATTACH;FMTTYPE=image/jpeg:https://cityofpleasantvalley.com/wp-content/uploads/2026/02/GettyImages-2175436689-scaled.jpg
END:VEVENT
BEGIN:VEVENT
DTSTART;TZID=America/New_York:20290320T190000
DTEND;TZID=America/New_York:20290320T203000
DTSTAMP:20260419T215727
CREATED:20260215T101719Z
LAST-MODIFIED:20260303T155609Z
UID:10000039-1868727600-1868733000@cityofpleasantvalley.com
SUMMARY:Council Meeting
DESCRIPTION:
URL:https://cityofpleasantvalley.com/event/perspiciatis-unde/2029-03-20/
LOCATION:Municipal Building\, 2340 Kingmont Road\, Fairmont\, WV\, 26554\, United States
ATTACH;FMTTYPE=image/jpeg:https://cityofpleasantvalley.com/wp-content/uploads/2026/02/GettyImages-2175436689-scaled.jpg
END:VEVENT
BEGIN:VEVENT
DTSTART;TZID=America/New_York:20290220T190000
DTEND;TZID=America/New_York:20290220T203000
DTSTAMP:20260419T215727
CREATED:20260215T101719Z
LAST-MODIFIED:20260303T155609Z
UID:10000038-1866308400-1866313800@cityofpleasantvalley.com
SUMMARY:Council Meeting
DESCRIPTION:
URL:https://cityofpleasantvalley.com/event/perspiciatis-unde/2029-02-20/
LOCATION:Municipal Building\, 2340 Kingmont Road\, Fairmont\, WV\, 26554\, United States
ATTACH;FMTTYPE=image/jpeg:https://cityofpleasantvalley.com/wp-content/uploads/2026/02/GettyImages-2175436689-scaled.jpg
END:VEVENT
BEGIN:VEVENT
DTSTART;TZID=America/New_York:20290116T190000
DTEND;TZID=America/New_York:20290116T203000
DTSTAMP:20260419T215727
CREATED:20260215T101719Z
LAST-MODIFIED:20260303T155609Z
UID:10000037-1863284400-1863289800@cityofpleasantvalley.com
SUMMARY:Council Meeting
DESCRIPTION:
URL:https://cityofpleasantvalley.com/event/perspiciatis-unde/2029-01-16/
LOCATION:Municipal Building\, 2340 Kingmont Road\, Fairmont\, WV\, 26554\, United States
ATTACH;FMTTYPE=image/jpeg:https://cityofpleasantvalley.com/wp-content/uploads/2026/02/GettyImages-2175436689-scaled.jpg
END:VEVENT
BEGIN:VEVENT
DTSTART;TZID=America/New_York:20281219T190000
DTEND;TZID=America/New_York:20281219T203000
DTSTAMP:20260419T215727
CREATED:20260215T101719Z
LAST-MODIFIED:20260303T155609Z
UID:10000036-1860865200-1860870600@cityofpleasantvalley.com
SUMMARY:Council Meeting
DESCRIPTION:
URL:https://cityofpleasantvalley.com/event/perspiciatis-unde/2028-12-19/
LOCATION:Municipal Building\, 2340 Kingmont Road\, Fairmont\, WV\, 26554\, United States
ATTACH;FMTTYPE=image/jpeg:https://cityofpleasantvalley.com/wp-content/uploads/2026/02/GettyImages-2175436689-scaled.jpg
END:VEVENT
BEGIN:VEVENT
DTSTART;TZID=America/New_York:20281121T190000
DTEND;TZID=America/New_York:20281121T203000
DTSTAMP:20260419T215727
CREATED:20260215T101719Z
LAST-MODIFIED:20260303T155609Z
UID:10000035-1858446000-1858451400@cityofpleasantvalley.com
SUMMARY:Council Meeting
DESCRIPTION:
URL:https://cityofpleasantvalley.com/event/perspiciatis-unde/2028-11-21/
LOCATION:Municipal Building\, 2340 Kingmont Road\, Fairmont\, WV\, 26554\, United States
ATTACH;FMTTYPE=image/jpeg:https://cityofpleasantvalley.com/wp-content/uploads/2026/02/GettyImages-2175436689-scaled.jpg
END:VEVENT
BEGIN:VEVENT
DTSTART;TZID=America/New_York:20281017T190000
DTEND;TZID=America/New_York:20281017T203000
DTSTAMP:20260419T215727
CREATED:20260215T101719Z
LAST-MODIFIED:20260303T155609Z
UID:10000034-1855422000-1855427400@cityofpleasantvalley.com
SUMMARY:Council Meeting
DESCRIPTION:
URL:https://cityofpleasantvalley.com/event/perspiciatis-unde/2028-10-17/
LOCATION:Municipal Building\, 2340 Kingmont Road\, Fairmont\, WV\, 26554\, United States
ATTACH;FMTTYPE=image/jpeg:https://cityofpleasantvalley.com/wp-content/uploads/2026/02/GettyImages-2175436689-scaled.jpg
END:VEVENT
BEGIN:VEVENT
DTSTART;TZID=America/New_York:20280919T190000
DTEND;TZID=America/New_York:20280919T203000
DTSTAMP:20260419T215727
CREATED:20260215T101719Z
LAST-MODIFIED:20260303T155609Z
UID:10000033-1853002800-1853008200@cityofpleasantvalley.com
SUMMARY:Council Meeting
DESCRIPTION:
URL:https://cityofpleasantvalley.com/event/perspiciatis-unde/2028-09-19/
LOCATION:Municipal Building\, 2340 Kingmont Road\, Fairmont\, WV\, 26554\, United States
ATTACH;FMTTYPE=image/jpeg:https://cityofpleasantvalley.com/wp-content/uploads/2026/02/GettyImages-2175436689-scaled.jpg
END:VEVENT
BEGIN:VEVENT
DTSTART;TZID=America/New_York:20280815T190000
DTEND;TZID=America/New_York:20280815T203000
DTSTAMP:20260419T215727
CREATED:20260215T101719Z
LAST-MODIFIED:20260303T155609Z
UID:10000032-1849978800-1849984200@cityofpleasantvalley.com
SUMMARY:Council Meeting
DESCRIPTION:
URL:https://cityofpleasantvalley.com/event/perspiciatis-unde/2028-08-15/
LOCATION:Municipal Building\, 2340 Kingmont Road\, Fairmont\, WV\, 26554\, United States
ATTACH;FMTTYPE=image/jpeg:https://cityofpleasantvalley.com/wp-content/uploads/2026/02/GettyImages-2175436689-scaled.jpg
END:VEVENT
BEGIN:VEVENT
DTSTART;TZID=America/New_York:20280718T190000
DTEND;TZID=America/New_York:20280718T203000
DTSTAMP:20260419T215727
CREATED:20260215T101719Z
LAST-MODIFIED:20260303T155609Z
UID:10000031-1847559600-1847565000@cityofpleasantvalley.com
SUMMARY:Council Meeting
DESCRIPTION:
URL:https://cityofpleasantvalley.com/event/perspiciatis-unde/2028-07-18/
LOCATION:Municipal Building\, 2340 Kingmont Road\, Fairmont\, WV\, 26554\, United States
ATTACH;FMTTYPE=image/jpeg:https://cityofpleasantvalley.com/wp-content/uploads/2026/02/GettyImages-2175436689-scaled.jpg
END:VEVENT
BEGIN:VEVENT
DTSTART;TZID=America/New_York:20280620T190000
DTEND;TZID=America/New_York:20280620T203000
DTSTAMP:20260419T215727
CREATED:20260215T101719Z
LAST-MODIFIED:20260303T155609Z
UID:10000030-1845140400-1845145800@cityofpleasantvalley.com
SUMMARY:Council Meeting
DESCRIPTION:
URL:https://cityofpleasantvalley.com/event/perspiciatis-unde/2028-06-20/
LOCATION:Municipal Building\, 2340 Kingmont Road\, Fairmont\, WV\, 26554\, United States
ATTACH;FMTTYPE=image/jpeg:https://cityofpleasantvalley.com/wp-content/uploads/2026/02/GettyImages-2175436689-scaled.jpg
END:VEVENT
BEGIN:VEVENT
DTSTART;TZID=America/New_York:20280516T190000
DTEND;TZID=America/New_York:20280516T203000
DTSTAMP:20260419T215727
CREATED:20260215T101719Z
LAST-MODIFIED:20260303T155609Z
UID:10000029-1842116400-1842121800@cityofpleasantvalley.com
SUMMARY:Council Meeting
DESCRIPTION:
URL:https://cityofpleasantvalley.com/event/perspiciatis-unde/2028-05-16/
LOCATION:Municipal Building\, 2340 Kingmont Road\, Fairmont\, WV\, 26554\, United States
ATTACH;FMTTYPE=image/jpeg:https://cityofpleasantvalley.com/wp-content/uploads/2026/02/GettyImages-2175436689-scaled.jpg
END:VEVENT
BEGIN:VEVENT
DTSTART;TZID=America/New_York:20280418T190000
DTEND;TZID=America/New_York:20280418T203000
DTSTAMP:20260419T215727
CREATED:20260215T101719Z
LAST-MODIFIED:20260303T155609Z
UID:10000028-1839697200-1839702600@cityofpleasantvalley.com
SUMMARY:Council Meeting
DESCRIPTION:
URL:https://cityofpleasantvalley.com/event/perspiciatis-unde/2028-04-18/
LOCATION:Municipal Building\, 2340 Kingmont Road\, Fairmont\, WV\, 26554\, United States
ATTACH;FMTTYPE=image/jpeg:https://cityofpleasantvalley.com/wp-content/uploads/2026/02/GettyImages-2175436689-scaled.jpg
END:VEVENT
END:VCALENDAR